BEGIN:VCALENDAR
VERSION:2.0
PRODID:-//pretix//pretix.eu//
BEGIN:VTIMEZONE
TZID:Europe/Berlin
BEGIN:STANDARD
DTSTART:20001029T040000
RRULE:FREQ=YEARLY;BYDAY=-1SU;BYMONTH=10
TZNAME:CET
TZOFFSETFROM:+0200
TZOFFSETTO:+0100
END:STANDARD
BEGIN:DAYLIGHT
DTSTART:20000326T030000
RRULE:FREQ=YEARLY;BYDAY=-1SU;BYMONTH=3
TZNAME:CEST
TZOFFSETFROM:+0100
TZOFFSETTO:+0200
END:DAYLIGHT
END:VTIMEZONE
BEGIN:VEVENT
UID:pretix-physikalischer-verein-aycpd-4886038@tickets.physikalischer-verei
 n.de
DTSTART;TZID=Europe/Berlin:20260328T190000
DTEND;TZID=Europe/Berlin:20260328T203000
DESCRIPTION:Tickets: https://tickets.physikalischer-verein.de/aycpd/4886038
 /\nVeranstalter: Physikalischer Verein
DTSTAMP:20260421T175005Z
LOCATION:Physikalischer Verein\, Robert-Mayer-Straße 2\, 60325 Frankfurt a
 m Main
SUMMARY:Unter den Sternen von Frankfurt – Ein Abend für Verliebte
END:VEVENT
END:VCALENDAR
