BEGIN:VCALENDAR
VERSION:2.0
PRODID:-//pretix//pretix.eu//
BEGIN:VTIMEZONE
TZID:Europe/Berlin
BEGIN:STANDARD
DTSTART:20001029T040000
RRULE:FREQ=YEARLY;BYDAY=-1SU;BYMONTH=10
TZNAME:CET
TZOFFSETFROM:+0200
TZOFFSETTO:+0100
END:STANDARD
BEGIN:DAYLIGHT
DTSTART:20000326T030000
RRULE:FREQ=YEARLY;BYDAY=-1SU;BYMONTH=3
TZNAME:CEST
TZOFFSETFROM:+0100
TZOFFSETTO:+0200
END:DAYLIGHT
END:VTIMEZONE
BEGIN:VEVENT
UID:pretix-physikalischer-verein-feldstecher26-0@tickets.physikalischer-ver
 ein.de
DTSTART;TZID=Europe/Berlin:20260328T150000
DTEND;TZID=Europe/Berlin:20260328T180000
DESCRIPTION:Tickets: https://tickets.physikalischer-verein.de/feldstecher26
 /\nEinlass: 28.03.2026 14:45\nVeranstalter: Physikalischer Verein
DTSTAMP:20260424T000337Z
LOCATION:Physikalischer Verein\, Robert-Mayer-Straße 2\, 60325 Frankfurt a
 m Main
SUMMARY:Astro-Praxis: Der Himmel des Feldstechers
END:VEVENT
END:VCALENDAR
