BEGIN:VCALENDAR
VERSION:2.0
PRODID:-//pretix//pretix.eu//
BEGIN:VEVENT
UID:pretix-physikalischer-verein-hln26-4783595@tickets.physikalischer-verei
 n.de
DTSTART;VALUE=DATE:20260919
DTEND;VALUE=DATE:20260920
DESCRIPTION:Tickets: https://tickets.physikalischer-verein.de/hln26/4783595
 /\nVeranstalter: Physikalischer Verein
DTSTAMP:20260424T020357Z
LOCATION:Parkplatz Kleiner Feldberg an der L3024
SUMMARY:September – Mitgliederbeobachtung auf der HLN-Sternwarte
END:VEVENT
END:VCALENDAR
